{
 "currentVersion": 11.5,
 "serviceDescription": "Hosted/Before_L8",
 "serviceItemId": "18777646c2de4ea4b83e821417fd9fb0",
 "name": "Hosted/Before_L8",
 "description": "",
 "extent": {
  "xmin": 516626.5909155627,
  "ymin": 4232199.501827777,
  "xmax": 557006.5909155627,
  "ymax": 4280259.501827777,
  "spatialReference": {
   "wkid": 32610,
   "latestWkid": 32610
  }
 },
 "initialExtent": {
  "xmin": 516626.5909155627,
  "ymin": 4232199.501827777,
  "xmax": 557006.5909155627,
  "ymax": 4280259.501827777,
  "spatialReference": {
   "wkid": 32610,
   "latestWkid": 32610
  }
 },
 "fullExtent": {
  "xmin": 516626.5909155627,
  "ymin": 4232199.501827777,
  "xmax": 557006.5909155627,
  "ymax": 4280259.501827777,
  "spatialReference": {
   "wkid": 32610,
   "latestWkid": 32610
  }
 },
 "sortableFields": "",
 "bandCount": 7,
 "pixelType": "S16",
 "minValues": [
  -1792,
  -1630,
  -243,
  -179,
  29,
  20,
  11
 ],
 "maxValues": [
  6006,
  6106,
  7087,
  7137,
  8849,
  11352,
  12184
 ],
 "meanValues": [
  312.3947336446114,
  395.0131090779903,
  611.3576969167517,
  732.8488275242872,
  2258.7413879938185,
  2005.7998541014085,
  1226.2191679048917
 ],
 "stdvValues": [
  188.82216102187604,
  229.85199471814067,
  298.1205856416244,
  448.9289255970661,
  477.44667895396043,
  929.3808273298896,
  692.8547333865228
 ],
 "serviceProperties": "Center<\/MosaicMethod>First<\/MosaicOperator>true<\/SortAscending><\/LockImageID><\/TileOrderField>0<\/TileOrderBase>0.000000<\/AvgImageSpacingX>0.000000<\/AvgImageSpacingY>0.0<\/ViewPointX>0.0<\/ViewPointY>0.0<\/ViewPointDefShiftX>0.0<\/ViewPointDefShiftY>None<\/CompressionMethod>75<\/CompressionQuality>0.010000<\/CompressionTolerance>Bilinear<\/SamplingMethod><\/ImageServiceProperties><\/ImageServer>",
 "allowedFields": "",
 "hasMultidimensions": false,
 "pixelSizeX": 30,
 "pixelSizeY": 30,
 "meanPixelSize": 30,
 "datasetFormat": "Cache/LERC2D",
 "uncompressedSize": 30188088,
 "blockWidth": 256,
 "blockHeight": 256,
 "compressionType": "LERC2D",
 "bandNames": [
  "Band_1",
  "sr_band2",
  "sr_band3",
  "sr_band4",
  "sr_band5",
  "sr_band6",
  "sr_band7"
 ],
 "allowCopy": true,
 "allowAnalysis": true,
 "itemAccess": false,
 "inspectionCapabilities": "",
 "noDataValue": 32767,
 "noDataValues": [
  32767,
  32767,
  32767,
  32767,
  32767,
  32767,
  32767
 ],
 "minPixelSize": 0,
 "maxPixelSize": 0,
 "copyrightText": "",
 "serviceDataType": "esriImageServiceDataTypeGeneric",
 "serviceSourceType": "esriImageServiceSourceTypeDataset",
 "objectIdField": "",
 "fields": [],
 "capabilities": "Image, Metadata",
 "defaultMosaicMethod": "Center",
 "allowedMosaicMethods": "",
 "sortField": "",
 "sortValue": null,
 "sortAscending": true,
 "mosaicOperator": "First",
 "defaultCompressionQuality": 75,
 "defaultResamplingMethod": "Bilinear",
 "maxImageHeight": 4100,
 "maxImageWidth": 15000,
 "singleFusedMapCache": true,
 "tileInfo": {
  "rows": 256,
  "cols": 256,
  "dpi": 96,
  "format": "LERC2D",
  "compressionQuality": 100000,
  "lercError": 0.1,
  "origin": {
   "x": 516626.5909155627,
   "y": 4280259.501827777
  },
  "spatialReference": {
   "wkid": 32610,
   "latestWkid": 32610
  },
  "lods": [
   {
    "level": 0,
    "resolution": 240,
    "scale": 907084.7999999999
   },
   {
    "level": 1,
    "resolution": 120,
    "scale": 453542.39999999997
   },
   {
    "level": 2,
    "resolution": 60,
    "scale": 226771.19999999998
   },
   {
    "level": 3,
    "resolution": 30,
    "scale": 113385.59999999999
   }
  ]
 },
 "storageInfo": {
  "storageFormat": "esriMapCacheStorageModeCompactV2",
  "packetSize": 12
 },
 "cacheType": "Raster",
 "allowRasterFunction": true,
 "rasterFunctionInfos": [
  {
   "name": "None",
   "description": "",
   "help": ""
  }
 ],
 "rasterTypeInfos": [
  {
   "name": "Raster Dataset",
   "description": "Supports all ArcGIS Raster Datasets",
   "help": ""
  }
 ],
 "mensurationCapabilities": "Basic,Base-Top Shadow Height",
 "hasHistograms": true,
 "hasColormap": false,
 "hasRasterAttributeTable": false,
 "minScale": 0,
 "maxScale": 0,
 "exportTilesAllowed": false,
 "supportsStatistics": false,
 "supportsAdvancedQueries": false,
 "editFieldsInfo": null,
 "ownershipBasedAccessControlForRasters": null,
 "allowComputeTiePoints": false,
 "useStandardizedQueries": true,
 "advancedQueryCapabilities": {
  "useStandardizedQueries": true,
  "supportsStatistics": false,
  "supportsOrderBy": false,
  "supportsDistinct": false,
  "supportsPagination": false
 },
 "spatialReference": {
  "wkid": 32610,
  "latestWkid": 32610
 }
}
