View In:
ArcGIS JavaScript
Kerrville Map Viewer
ArcGIS Earth
Service Description: Hosted/After_L8
Name: Hosted/After_L8
Description:
Single Fused Map Cache: true
Tile Info:
- Height: 256
- Width: 256
- DPI: 96
-
Levels of Detail: 4
- Format: LERC2D
- Compression Quality: 100000.0
- LERC Error: 0.1
- Origin: X: 516626.5909155627
Y: 4280259.501827777
- Spatial Reference: 32610
(32610)
Storage Info:
- Storage Format: esriMapCacheStorageModeCompactV2
- Packet Size: 12
Extent:
XMin: 516626.5909155627
YMin: 4232199.501827777
XMax: 557006.5909155627
YMax: 4280259.501827777
Spatial Reference: 32610
(32610)
Initial Extent:
XMin: 516626.5909155627
YMin: 4232199.501827777
XMax: 557006.5909155627
YMax: 4280259.501827777
Spatial Reference: 32610
(32610)
Full Extent:
XMin: 516626.5909155627
YMin: 4232199.501827777
XMax: 557006.5909155627
YMax: 4280259.501827777
Spatial Reference: 32610
(32610)
Pixel Size X: 30.0
Pixel Size Y: 30.0
Band Count: 7
Pixel Type: S16
RasterFunction Infos: {"rasterFunctionInfos": [{
"help": "",
"name": "None",
"description": ""
}]}
Mensuration Capabilities: Basic,Base-Top Shadow Height
Inspection Capabilities:
Has Histograms: true
Has Colormap: false
Has Multi Dimensions : false
Rendering Rule:
Min Scale: 0
Max Scale: 0
Copyright Text:
Service Data Type: esriImageServiceDataTypeGeneric
Min Values: -2000, -2000, -1491, -1148, 31, 15, 9
Max Values: 6418, 7555, 9615, 10597, 11833, 16000, 16000
Mean Values: 256.25964897147298, 313.54037903957595, 484.39226366373532, 479.60269666630484, 1838.8506431411008, 1515.7180572018949, 960.92794018619156
Standard Deviation Values: 163.25384030410981, 178.87060646408531, 231.02053787173577, 263.71850849726036, 728.77016923224028, 698.84799797532662, 517.80799588062916
Object ID Field:
Fields:
None
Default Mosaic Method: Center
Allowed Mosaic Methods:
SortField:
SortValue: N/A
Mosaic Operator: First
Default Compression Quality: 75
Default Resampling Method: Bilinear
Max Record Count: null
Max Image Height: 4100
Max Image Width: 15000
Max Download Image Count: null
Max Mosaic Image Count: null
Allow Raster Function: true
Allow Copy: true
Allow Analysis: true
Allow Compute TiePoints: false
Supports Statistics: false
Supports Advanced Queries: false
Use StandardizedQueries: false
Raster Type Infos:
Name: Raster Dataset
Description: Supports all ArcGIS Raster Datasets
Help:
Has Raster Attribute Table: false
Edit Fields Info: N/A
Ownership Based AccessControl For Rasters: N/A
Child Resources:
Info
Histograms
Statistics
Key Properties
Legend
Raster Function Infos
Supported Operations:
Export Image
Identify
Compute Histograms
Compute Statistics Histograms
Get Samples
Compute Class Statistics
Query Boundary
Compute Pixel Location
Compute Angles
Validate
Project