View In:
ArcGIS JavaScript
Kerrville Map Viewer
ArcGIS Earth
Service Description: Hosted/Louisville_Neighborhood
Name: Hosted/Louisville_Neighborhood
Description:
Single Fused Map Cache: true
Tile Info:
- Height: 256
- Width: 256
- DPI: 96
-
Levels of Detail: 5
- Format: LERC2D
- Compression Quality: 100000.0
- LERC Error: 0.1
- Origin: X: 1295796.0
Y: 271869.0000000149
- Spatial Reference: 102679
(2246)
Storage Info:
- Storage Format: esriMapCacheStorageModeCompactV2
- Packet Size: 16
Extent:
XMin: 1295796.0
YMin: 270262.0000000149
XMax: 1297529.0
YMax: 271869.0000000149
Spatial Reference: 102679
(2246)
Initial Extent:
XMin: 1295796.0
YMin: 270262.0000000149
XMax: 1297529.0
YMax: 271869.0000000149
Spatial Reference: 102679
(2246)
Full Extent:
XMin: 1295796.0
YMin: 270262.0000000149
XMax: 1297529.0
YMax: 271869.0000000149
Spatial Reference: 102679
(2246)
Pixel Size X: 0.5
Pixel Size Y: 0.5
Band Count: 4
Pixel Type: U8
RasterFunction Infos: {"rasterFunctionInfos": [{
"help": "",
"name": "None",
"description": ""
}]}
Mensuration Capabilities: Basic
Inspection Capabilities:
Has Histograms: true
Has Colormap: false
Has Multi Dimensions : false
Rendering Rule:
Min Scale: 0
Max Scale: 0
Copyright Text:
Service Data Type: esriImageServiceDataTypeGeneric
Min Values: 0, 0, 0, 0
Max Values: 255, 255, 255, 255
Mean Values: 101.55034505343193, 107.5471429992339, 105.30220793621169, 132.89366774257613
Standard Deviation Values: 44.371325569780836, 41.997911011545447, 43.481599215911736, 68.166836738731845
Object ID Field:
Fields:
None
Default Mosaic Method: Center
Allowed Mosaic Methods:
SortField:
SortValue: N/A
Mosaic Operator: First
Default Compression Quality: 75
Default Resampling Method: Bilinear
Max Record Count: null
Max Image Height: 4100
Max Image Width: 15000
Max Download Image Count: null
Max Mosaic Image Count: null
Allow Raster Function: true
Allow Copy: true
Allow Analysis: true
Allow Compute TiePoints: false
Supports Statistics: false
Supports Advanced Queries: false
Use StandardizedQueries: false
Raster Type Infos:
Name: Raster Dataset
Description: Supports all ArcGIS Raster Datasets
Help:
Has Raster Attribute Table: false
Edit Fields Info: N/A
Ownership Based AccessControl For Rasters: N/A
Child Resources:
Info
Histograms
Statistics
Key Properties
Legend
Raster Function Infos
Supported Operations:
Export Image
Identify
Compute Histograms
Compute Statistics Histograms
Get Samples
Compute Class Statistics
Query Boundary
Compute Pixel Location
Compute Angles
Validate
Project