View In:
ArcGIS JavaScript
Kerrville Map Viewer
ArcGIS Earth
Service Description: Hosted/precipitation
Name: Hosted/precipitation
Description:
Single Fused Map Cache: true
Tile Info:
- Height: 128
- Width: 128
- DPI: 96
-
Levels of Detail: 1
- Format: LERC2D
- Compression Quality: 0.0
- LERC Error: 0.0
- Origin: X: 0.0
Y: 90.0
- Spatial Reference: 4326
(4326)
Storage Info:
- Storage Format: esriMapCacheStorageModeCompactV2
- Packet Size: 4
Extent:
XMin: 0.0
YMin: -90.0
XMax: 360.0
YMax: 90.0
Spatial Reference: 4326
(4326)
Initial Extent:
XMin: 0.0
YMin: -90.0
XMax: 360.0
YMax: 90.0
Spatial Reference: 4326
(4326)
Full Extent:
XMin: 0.0
YMin: -90.0
XMax: 360.0
YMax: 90.0
Spatial Reference: 4326
(4326)
Pixel Size X: 2.5
Pixel Size Y: 2.5
Band Count: 466
Pixel Type: F32
RasterFunction Infos: {"rasterFunctionInfos": [{
"help": "",
"name": "None",
"description": ""
}]}
Mensuration Capabilities: Basic
Inspection Capabilities:
Has Histograms: true
Has Colormap: false
Has Multi Dimensions : false
Rendering Rule:
Min Scale: 0
Max Scale: 0
Copyright Text:
Service Data Type: esriImageServiceDataTypeGeneric
Min Values: 0, 0, 0, 0, 0, 0, 0, 0, 0, 0, 0, 0, 0, 0, 0, 0, 0, 0, 0, 0, 0, 0, 0, 0, 0, 0, 0, 0, 0, 0, 0, 0, 0, 0, 0, 0, 0, 0, 0, 0, 0, 0, 0, 0, 0, 0, 0, 0, 0, 0, 0, 0, 0, 0, 0, 0, 0, 0, 0, 0, 0, 0, 0, 0, 0, 0, 0, 0, 0, 0, 0, 0, 0, 0, 0, 0, 0, 0, 0, 0, 0, 0, 0, 0, 0, 0, 0, 0, 0, 0, 0, 0, 0, 0, 0, 0, 0, 0, 0, 0, 0, 0, 0, 0, 0, 0, 0, 0, 0, 0, 0.0000020783188574569067, 0, 0, 0, 0, 0, 0, 0, 0, 0, 0, 0, 0.00010212110646534711, 0, 0.000010418343663332053, 0, 0, 0, 0, 0, 0, 0, 0, 0, 0.000061215083405841142, 0, 0, 0, 0, 0, 0, 0, 0, 0, 0, 0, 0.0000082727356129908003, 0, 0, 0, 0, 0, 0, 0, 0, 0, 0, 0, 0.00010025723167927936, 0, 0, 0, 0, 0, 0, 0, 0, 0, 0, 0, 0, 0, 0, 0, 0, 0, 0, 0, 0, 0, 0, 0, 0, 0, 0, 0, 0, 0, 0, 0, 0, 0, 0, 0, 0, 0, 0, 0, 0, 0, 0, 0, 0, 0, 0, 0, 0.00017893122276291251, 0, 0, 0, 0, 0, 0, 0, 0, 0, 0, 0, 0.000012715379853034392, 0, 0.00017868049326352775, 0, 0, 0, 0, 0, 0, 0, 0, 0, 0, 0, 0, 0, 0, 0, 0, 0, 0, 0, 0, 0, 0, 0, 0, 0, 0, 0, 0, 0, 0, 0, 0, 0, 0, 0, 0, 0, 0, 0, 0, 0, 0, 0, 0, 0, 0, 0, 0, 0, 0, 0, 0, 0, 0, 0, 0, 0, 0, 0, 0, 0, 0, 0, 0, 0, 0, 0, 0, 0, 0, 0, 0, 0, 0, 0, 0, 0, 0, 0, 0, 0, 0, 0, 0, 0, 0, 0, 0, 0, 0, 0, 0, 0, 0, 0, 0, 0, 0, 0, 0, 0, 0, 0, 0, 0, 0, 0, 0, 0, 0, 0, 0, 0, 0, 0, 0, 0, 0, 0, 0, 0, 0, 0, 0, 0, 0, 0, 0, 0, 0, 0, 0, 0, 0, 0, 0, 0, 0, 0, 0, 0, 0, 0, 0, 0, 0, 0, 0, 0, 0, 0, 0, 0, 0, 0, 0, 0, 0, 0, 0, 0, 0, 0, 0, 0, 0, 0, 0, 0, 0, 0, 0, 0, 0, 0, 0, 0, 0, 0, 0, 0, 0, 0, 0, 0, 0, 0, 0, 0, 0, 0, 0, 0, 0, 0, 0, 0, 0, 0, 0, 0, 0, 0, 0, 0, 0, 0, 0, 0, 0, 0, 0, 0, 0, 0, 0, 0, 0, 0, 0, 0, 0, 0, 0, 0, 0, 0, 0, 0, 0, 0, 0, 0, 0, 0, 0, 0, 0, 0, 0, 0, 0, 0, 0, 0
Max Values: 45.018875122070312, 22.166225433349609, 19.508426666259766, 19.698637008666992, 19.076210021972656, 23.068155288696289, 34.9840087890625, 30.169923782348633, 19.27577018737793, 19.752002716064453, 19.660699844360352, 20.873647689819336, 18.653425216674805, 28.541479110717773, 25.389280319213867, 17.553359985351562, 24.151329040527344, 36.781208038330078, 38.210205078125, 33.949607849121094, 24.022649765014648, 22.004890441894531, 23.842565536499023, 25.008058547973633, 33.978580474853516, 18.985004425048828, 20.937107086181641, 20.098674774169922, 16.969924926757812, 34.438552856445312, 31.42829704284668, 32.351116180419922, 18.721096038818359, 33.924747467041016, 26.78660774230957, 20.515590667724609, 21.812631607055664, 19.932619094848633, 18.80839729309082, 19.975988388061523, 20.740961074829102, 29.118381500244141, 39.672775268554688, 47.327434539794922, 20.879423141479492, 20.997650146484375, 16.93115234375, 19.133962631225586, 24.809574127197266, 19.503852844238281, 17.910783767700195, 20.678689956665039, 23.05572509765625, 24.049514770507812, 39.611175537109375, 40.33538818359375, 25.643333435058594, 34.148891448974609, 23.046665191650391, 28.283573150634766, 22.09791374206543, 24.352413177490234, 18.40972900390625, 21.799041748046875, 23.228353500366211, 32.552280426025391, 34.599716186523438, 37.487686157226562, 29.819635391235352, 20.385751724243164, 18.82989501953125, 22.625816345214844, 22.326442718505859, 28.064119338989258, 20.286506652832031, 19.102716445922852, 21.619979858398438, 40.669429779052734, 26.810886383056641, 27.334762573242188, 22.544900894165039, 20.791614532470703, 23.757095336914062, 21.359760284423828, 27.613353729248047, 19.267847061157227, 21.247650146484375, 23.605993270874023, 19.328163146972656, 27.531423568725586, 24.859455108642578, 28.103359222412109, 21.062673568725586, 21.785436630249023, 24.468954086303711, 23.362339019775391, 21.920661926269531, 23.435890197753906, 17.706325531005859, 20.883686065673828, 16.601568222045898, 27.771411895751953, 34.266937255859375, 25.448921203613281, 23.146429061889648, 21.421064376831055, 23.775081634521484, 24.818204879760742, 22.438234329223633, 18.747396469116211, 18.449468612670898, 20.238584518432617, 21.073747634887695, 28.164840698242188, 35.915847778320312, 26.593530654907227, 17.988815307617188, 23.495725631713867, 28.089157104492188, 22.659236907958984, 22.913190841674805, 24.379192352294922, 18.612363815307617, 20.4222412109375, 22.054344177246094, 28.852928161621094, 28.357830047607422, 23.671794891357422, 23.562911987304688, 23.774663925170898, 22.535423278808594, 21.686557769775391, 20.890525817871094, 25.138120651245117, 20.23609733581543, 18.633600234985352, 16.656864166259766, 25.2108154296875, 28.200088500976562, 29.284494400024414, 18.472291946411133, 22.245635986328125, 22.352058410644531, 18.816062927246094, 24.088163375854492, 22.361522674560547, 19.576740264892578, 19.06434440612793, 21.510795593261719, 27.15574836730957, 43.968521118164062, 23.419897079467773, 22.467744827270508, 19.676311492919922, 21.07026481628418, 25.401939392089844, 22.609807968139648, 19.981719970703125, 19.828235626220703, 16.719331741333008, 17.332805633544922, 24.061899185180664, 24.876735687255859, 23.34736442565918, 20.340522766113281, 24.393047332763672, 16.922927856445312, 21.324140548706055, 16.960636138916016, 19.535429000854492, 18.369436264038086, 18.046331405639648, 18.539802551269531, 30.045680999755859, 43.893039703369141, 23.478973388671875, 17.944597244262695, 20.513303756713867, 17.346645355224609, 23.598300933837891, 17.42706298828125, 20.615894317626953, 19.298133850097656, 19.694831848144531, 17.482830047607422, 33.563091278076172, 38.543148040771484, 26.342296600341797, 21.015571594238281, 22.292499542236328, 22.173416137695312, 21.185033798217773, 21.783731460571289, 19.999908447265625, 16.457523345947266, 21.922994613647461, 16.376729965209961, 25.174097061157227, 43.638580322265625, 24.979618072509766, 20.428705215454102, 26.415508270263672, 28.362932205200195, 34.718975067138672, 30.498149871826172, 20.931720733642578, 22.349834442138672, 18.550807952880859, 18.829181671142578, 24.911891937255859, 32.282936096191406, 20.945446014404297, 27.351577758789062, 19.686208724975586, 24.249706268310547, 26.190998077392578, 20.631587982177734, 21.55500602722168, 32.972576141357422, 21.345834732055664, 16.944606781005859, 24.114908218383789, 40.925239562988281, 27.446701049804688, 23.132265090942383, 17.874549865722656, 21.304166793823242, 23.098182678222656, 24.708700180053711, 23.087003707885742, 19.216955184936523, 22.966436386108398, 19.021804809570312, 31.020132064819336, 33.307228088378906, 29.139553070068359, 27.500072479248047, 23.359443664550781, 25.930501937866211, 26.685663223266602, 21.702478408813477, 24.656835556030273, 24.602401733398438, 19.440773010253906, 19.867204666137695, 27.846466064453125, 45.383766174316406, 28.915691375732422, 21.687225341796875, 21.480804443359375, 35.315322875976562, 31.37823486328125, 20.639934539794922, 29.51043701171875, 20.632823944091797, 21.351058959960938, 21.535491943359375, 30.742233276367188, 29.572687149047852, 22.138223648071289, 20.95789909362793, 25.687982559204102, 20.778722763061523, 21.065374374389648, 21.535903930664062, 23.903511047363281, 18.15864372253418, 20.921955108642578, 22.901666641235352, 34.943733215332031, 24.513645172119141, 21.231678009033203, 26.505161285400391, 20.337926864624023, 22.608381271362305, 22.336847305297852, 17.993646621704102, 20.573038101196289, 21.08149528503418, 19.313869476318359, 19.759449005126953, 23.841976165771484, 34.719284057617188, 25.557657241821289, 35.309062957763672, 20.401483535766602, 20.927127838134766, 30.306497573852539, 27.154485702514648, 23.794164657592773, 19.084539413452148, 16.876754760742188, 31.345714569091797, 36.14453125, 23.843715667724609, 27.317218780517578, 19.212959289550781, 23.964878082275391, 23.245006561279297, 21.076547622680664, 21.290401458740234, 18.980781555175781, 28.235446929931641, 18.035690307617188, 24.963188171386719, 22.651382446289062, 31.680425643920898, 22.590976715087891, 21.895999908447266, 23.36589241027832, 23.079771041870117, 23.064971923828125, 18.47650146484375, 34.221790313720703, 18.646703720092773, 23.220851898193359, 17.387767791748047, 21.39348030090332, 28.453166961669922, 23.941442489624023, 22.729137420654297, 19.058561325073242, 18.158988952636719, 26.10624885559082, 19.280462265014648, 27.197826385498047, 22.955698013305664, 19.606801986694336, 19.9483642578125, 27.871156692504883, 23.199028015136719, 26.835195541381836, 20.287445068359375, 19.814178466796875, 22.888078689575195, 26.496303558349609, 25.192207336425781, 21.631237030029297, 17.988388061523438, 19.087005615234375, 21.659639358520508, 27.268440246582031, 29.082382202148438, 28.950113296508789, 21.954967498779297, 25.012035369873047, 24.121208190917969, 19.562900543212891, 21.463394165039062, 29.414562225341797, 23.50457763671875, 16.663568496704102, 19.842992782592773, 33.517421722412109, 23.925363540649414, 25.282962799072266, 27.768150329589844, 27.079498291015625, 26.567417144775391, 21.552946090698242, 27.138044357299805, 23.862619400024414, 19.205167770385742, 19.996646881103516, 20.490446090698242, 20.112167358398438, 35.516731262207031, 25.751791000366211, 30.995737075805664, 23.240808486938477, 22.884897232055664, 23.486162185668945, 25.164556503295898, 28.202852249145508, 22.398715972900391, 20.240985870361328, 24.766056060791016, 25.12306022644043, 38.093616485595703, 22.234580993652344, 24.0538330078125, 30.014047622680664, 25.413780212402344, 21.42548942565918, 29.794334411621094, 24.572006225585938, 24.70489501953125, 17.252395629882812, 20.670804977416992, 27.297885894775391, 31.639669418334961, 25.665531158447266, 21.105579376220703, 20.392797470092773, 18.51384162902832, 18.525043487548828, 21.171846389770508, 18.338459014892578, 20.044895172119141, 23.932327270507812, 17.681793212890625, 25.626186370849609, 21.348848342895508, 27.355060577392578, 19.393798828125, 17.944337844848633, 20.352235794067383, 19.280313491821289, 22.059738159179688, 20.763971328735352, 21.372201919555664, 17.655900955200195, 21.506000518798828, 21.744224548339844, 27.834281921386719, 22.236856460571289, 21.16778564453125, 23.311002731323242, 18.316497802734375, 19.007568359375, 24.013385772705078, 19.322822570800781, 23.890834808349609, 18.657093048095703, 20.992952346801758, 24.056852340698242, 28.030719757080078, 28.947664260864258, 22.927461624145508, 41.970973968505859, 19.118537902832031, 23.406826019287109, 19.62884521484375, 16.541709899902344, 21.278635025024414, 18.595005035400391, 21.666309356689453, 29.690389633178711, 39.233169555664062, 18.765031814575195, 21.843362808227539, 19.309970855712891, 21.306930541992188, 25.022233963012695, 23.130157470703125, 25.12108039855957, 19.59025764465332, 18.198196411132812, 18.751602172851562, 31.75221061706543, 25.240110397338867, 30.859094619750977, 20.620687484741211, 17.157781600952148, 21.094326019287109, 19.733531951904297, 18.246608734130859, 22.687276840209961, 18.672651290893555, 17.974573135375977, 20.516880035400391, 29.767539978027344, 27.995353698730469, 22.205242156982422, 18.339653015136719, 20.267368316650391
Mean Values: 2.2292772265633252, 2.2804473920652941, 2.2299359808710131, 2.1680956338986883, 2.1511616382364549, 2.2654886186364709, 2.2880347856744376, 2.3198178360408725, 2.3091396683689376, 2.1922828882057104, 2.2611622717987161, 2.1189848895007772, 2.1930620162918397, 2.1715080337992418, 2.1943590239214621, 2.1213710604726104, 2.1173521800426349, 2.2110167320964234, 2.2187111793847549, 2.3135662477335059, 2.2677979055624102, 2.2371301247448754, 2.2006015683923663, 2.153136305553188, 2.2530134944193718, 2.2091368101294613, 2.1678126805366116, 2.1725581171201864, 2.1166622808903877, 2.2348539645012946, 2.2849892613849012, 2.3117386460497564, 2.3049828531690824, 2.2452936115420066, 2.2775839115259449, 2.1975799802298317, 2.2409421633794149, 2.1855888811680435, 2.3222620650670587, 2.237229639721392, 2.1891242130344462, 2.27766810446857, 2.2732513024699541, 2.3993136469057914, 2.3183496634033487, 2.2303436538727537, 2.2437838215424657, 2.2401508864025415, 2.2358224524150812, 2.2110822896875399, 2.1936013304569633, 2.1489685426171632, 2.1449514923681408, 2.2830139330645287, 2.3510228050152278, 2.3603372615705656, 2.2971792770565114, 2.3079644059226037, 2.267511537480595, 2.1975194824337128, 2.2325892385294095, 2.2375757527553284, 2.1863493844913537, 2.1684909055847572, 2.1534919005025865, 2.2913239331428237, 2.3024148865311411, 2.3399530356707121, 2.2741960853218357, 2.3162129188673251, 2.2401411922594416, 2.172797986458443, 2.153712097066304, 2.2755331276570869, 2.2270421465481873, 2.1475145778508646, 2.1646102583643905, 2.2156521474673752, 2.2706972121368456, 2.3828644785882567, 2.2838016997389454, 2.3589356134329851, 2.2871740877060525, 2.1777510397964304, 2.229131469343133, 2.0930992684119767, 2.243157109022595, 2.1852158870603482, 2.1450661588965771, 2.2504420558986751, 2.2811270798156009, 2.3200844303364736, 2.2863037199202818, 2.1477029403524961, 2.2322927007691487, 2.2020015552583279, 2.2233980559672921, 2.2159390211609682, 2.2083473267341653, 2.1457432898826765, 2.1347659346833292, 2.2019793912047385, 2.2933661492588344, 2.3049277099003307, 2.275951591974374, 2.2724069551351875, 2.247026722593247, 2.1467497597579728, 2.0880581816764905, 2.199650280084207, 2.2975241588035269, 2.1661440315140283, 2.1853067859069291, 2.2424238969080985, 2.3817306659088389, 2.3957757724532507, 2.3239757588398349, 2.2229672912050193, 2.2077313615669345, 2.181349586400589, 2.2732581337830551, 2.2083867298239541, 2.1024397287642231, 2.1763070826351023, 2.0993768734438216, 2.2181427498288713, 2.3468294963295597, 2.3314959581705779, 2.3232516662393441, 2.2217776337647437, 2.272686282390211, 2.230461470593196, 2.2115150525315062, 2.2461838221180916, 2.3036379236761548, 2.2228219652985319, 2.2094957002786617, 2.2328291942168059, 2.2737003016801451, 2.2950632425527733, 2.2699533000442687, 2.186507744846093, 2.2787729485648187, 2.1365810053916259, 2.1983136017800269, 2.1913791312829232, 2.2304471499564333, 2.0914215357682471, 2.1909750772978862, 2.2934702408142273, 2.2253492016094705, 2.332935431860955, 2.2834536672956496, 2.2358854423865764, 2.1811902808630941, 2.0687420253452062, 2.2441979032583057, 2.2312859472004725, 2.1712978650413164, 2.1653967636985501, 2.1436915283280671, 2.1930168578716045, 2.2852998341647082, 2.2452568255871337, 2.2712643189789175, 2.2338013527953202, 2.2248574919970965, 2.159321352452749, 2.2034197877813182, 2.2401056559643435, 2.1676753787614844, 2.1045034864871828, 2.1480815988127961, 2.2442893736507079, 2.3149464328651121, 2.2804660194831086, 2.2633349743837652, 2.3092330285009317, 2.3214056873898672, 2.2331165981576113, 2.1872072083229432, 2.1197903132244322, 2.2026333895208556, 2.1725211996642053, 2.1671569502999222, 2.2810470535775949, 2.2515048207709025, 2.2830737054503034, 2.2918306483035744, 2.1328372415321231, 2.1693872815170665, 2.1897403358003116, 2.1727351449179335, 2.1276452594541069, 2.2199826488560666, 2.2051596588956888, 2.1755799452413052, 2.2852980710598931, 2.273697156105265, 2.3465010838750828, 2.3120550228193468, 2.2066418753920853, 2.2776158381618203, 2.1853511746141256, 2.2573360394252679, 2.2491802829752965, 2.3006285593760802, 2.1810714359388275, 2.1500356866457011, 2.2452903053359567, 2.2979127803267714, 2.3123458388864915, 2.2968692434878215, 2.2338147406436155, 2.2716096981556633, 2.0572485764526101, 2.2352787460931891, 2.1959226380412988, 2.2244849207187669, 2.2078151728584374, 2.2155648267252239, 2.2013453615481287, 2.2975942768424655, 2.3812235005683879, 2.3072918236152153, 2.2415216618241658, 2.2111586026328935, 2.2087950462638326, 2.2123765269436029, 2.2266037941804973, 2.2924998657467475, 2.2088635176452125, 2.2154114697792409, 2.2963197927594705, 2.3188787080455997, 2.4075287254766033, 2.3438567019594427, 2.3016587193109332, 2.2000541799435003, 2.2305223744231535, 2.1841718117182167, 2.221434910988842, 2.1067988125303931, 2.1333757261761535, 2.1909516527616435, 2.207488221223274, 2.3178958076863836, 2.3079926124816579, 2.327134189566447, 2.290426060147178, 2.297697379094219, 2.1676097883168977, 2.1785092570279589, 2.1484008422690697, 2.1780969909616843, 2.1218637473339865, 2.175031289443675, 2.2357969525485424, 2.3183352455280928, 2.2877979422220167, 2.2950219323858225, 2.2193275800375774, 2.1686835366665784, 2.1328747458877042, 2.1019131441698677, 2.1097435486847442, 2.1460226643445326, 2.1376021011427895, 2.1823751077566054, 2.2538149009911965, 2.3130683278982791, 2.2855923596983838, 2.2340971650651298, 2.2472283687634951, 2.2613816694976663, 2.1588494943324132, 2.2662059730793187, 2.2275740517023412, 2.2623384941224174, 2.1264202106178534, 2.1833409606161229, 2.2859160085569581, 2.2588737302211626, 2.2913639290785177, 2.2703054533322247, 2.1803455425714651, 2.1846961686286774, 2.1811560397267642, 2.2824303448017105, 2.2486560314707544, 2.2766018144814546, 2.1855561209701166, 2.2159043057819376, 2.2077326319829318, 2.2709167802105226, 2.3695497217183332, 2.3417670376988848, 2.2460457307536568, 2.2071611474567128, 2.2372255936808023, 2.2188718590284173, 2.274565664921095, 2.3215095920502189, 2.1748513226069006, 2.1723547417186269, 2.2428277932251315, 2.1638027743226842, 2.3062113760496907, 2.2837008029616337, 2.2376449276906838, 2.2539352046049106, 2.267378068661646, 2.3264857738677476, 2.2978688028773115, 2.3325608725851317, 2.2450286198104505, 2.1811359261376508, 2.2229577285729123, 2.3045197524527765, 2.3610650482969531, 2.3640602709622374, 2.3079879515944941, 2.1834054633669711, 2.2134048436894429, 2.3521524522969433, 2.2707930989376481, 2.3126123314286264, 2.1828212584284734, 2.1375632516000462, 2.2544864151287305, 2.2834820368687381, 2.3537914736709031, 2.3419650131715444, 2.2830944450165824, 2.2680597441663242, 2.2538551668442106, 2.3074733596401154, 2.2518645053378079, 2.3092365328644071, 2.1914738576705517, 2.1678789500342019, 2.2729055306645267, 2.3258712509526185, 2.2855096799731047, 2.3132827718079754, 2.2287321747441284, 2.2359772253378241, 2.2695011417793682, 2.2422032954444968, 2.2980634936976729, 2.1993323460004874, 2.1329109231856105, 2.1000492431915752, 2.2274596220521707, 2.3176529778192156, 2.2863265668965194, 2.3738949550926001, 2.2249838183820683, 2.2375748311560479, 2.229177409515025, 2.2661149390941278, 2.1994561524509044, 2.2272928664268372, 2.1940420188998675, 2.133717824646078, 2.1608452587558853, 2.3136203772593293, 2.3218801222361374, 2.3323427282863545, 2.2159498425447279, 2.2886028781208467, 2.1928083443505693, 2.287860050898245, 2.2532443366493622, 2.3030463459525214, 2.1612683039750378, 2.2559088874958082, 2.2905953421272911, 2.3344645173671457, 2.4034383287111911, 2.2983376820280776, 2.2830457850391412, 2.251944094854871, 2.2151096972591722, 2.2339568989863197, 2.3013157423074144, 2.248330925398268, 2.1979004001929026, 2.1700676159416292, 2.2397191322468548, 2.3125195966144592, 2.3826344123572039, 2.2641723049964813, 2.2447544612990535, 2.2480922562778112, 2.2129256440089615, 2.2176311804971274, 2.228107170062863, 2.259080632181536, 2.1655763971442141, 2.1639761686136207, 2.2978914025878256, 2.314496296393294, 2.3299818662839882, 2.351200825710877, 2.2017952219532999, 2.1603412112271028, 2.1986315625566779, 2.2760792298954913, 2.251465043791204, 2.2331403572224349, 2.1603334414757938, 2.169228932448108, 2.2746614045567988, 2.2818567932038891, 2.3114535084604126, 2.28569033478832, 2.199086313288503, 2.2806867973524239, 2.2215069657560496, 2.2422134454963385, 2.2157515932399874, 2.2240150662142666, 2.116367879055014, 2.2110072848365259, 2.2551183670677335, 2.3210080467293075, 2.3093734338157645, 2.303614593136087, 2.24365874694446, 2.2447099901692043, 2.0995448885603132, 2.302452675755438, 2.2703661583913477, 2.3313287672009189, 2.1093192187153624, 2.1726912487928143, 2.131325624875811, 2.2938661941654197, 2.3718272656892356, 2.3581843363177994, 2.2820492512363866, 2.2833741806042989, 2.2753414096709546, 2.3272421583245038, 2.3223167793744826, 2.2493187234316445, 2.1848081462287876, 2.1832505922027678, 2.239637823561722, 2.2773337652639376, 2.4010979068893388, 2.2779141933313687, 2.2696421843997054, 2.2466631668192099, 2.1976057012297536, 2.2292213993071139, 2.2119643172232624, 2.2475218866894862, 2.192273128650172, 2.1943604865492943, 2.2695165853156753, 2.3592058827047384, 2.3628057846153885, 2.3188733819708749, 2.2914646111618975
