View In:
ArcGIS JavaScript
Kerrville Map Viewer
ArcGIS Earth
ArcGIS Pro
Service Description: <div style='text-align:Left;font-size:12pt'><div><p><span>Provides context for public safety data (incidents, events, resources. etc.). It includes structures, roads, major facilities and landmarks, water features, parcels, addresses and boundaries. The basemap uses design elements found in the General Purpose basemap but emphasizes critical facilities found in a community. It provides context for multiple workflows, such as editing data or producing web maps.</span></p></div></div>
Map Name: Public Safety v2
Legend
All Layers and Tables
Layers:
Description: Provides context for public safety data (incidents, events, resources. etc.). It includes structures, roads, major facilities and landmarks, water features, parcels, addresses and boundaries. The basemap uses design elements found in the General Purpose basemap but emphasizes critical facilities found in a community. It provides context for multiple workflows, such as editing data or producing web maps.
Service Item Id: 1bf52f17e8fe441db600121673ef6feb
Copyright Text: Esri., Inc.; City of Kerrville, TX; USGS; TGO; Microsoft
Spatial Reference:
102100
(3857)
Single Fused Map Cache: true
Tile Info:
- Height: 256.0
- Width: 256.0
- DPI: 96.0
-
Levels of Detail: 24
-
Level ID: 0
[ Start Tile, End Tile ]
- Resolution: 156543.03392800014
- Scale: 591657527.591555
-
Level ID: 1
[ Start Tile, End Tile ]
- Resolution: 78271.516963999937
- Scale: 295828763.79577702
-
Level ID: 2
[ Start Tile, End Tile ]
- Resolution: 39135.758482000092
- Scale: 147914381.89788899
-
Level ID: 3
[ Start Tile, End Tile ]
- Resolution: 19567.879240999919
- Scale: 73957190.948944002
-
Level ID: 4
[ Start Tile, End Tile ]
- Resolution: 9783.9396204999593
- Scale: 36978595.474472001
-
Level ID: 5
[ Start Tile, End Tile ]
- Resolution: 4891.9698102499797
- Scale: 18489297.737236001
-
Level ID: 6
[ Start Tile, End Tile ]
- Resolution: 2445.9849051249898
- Scale: 9244648.8686180003
-
Level ID: 7
[ Start Tile, End Tile ]
- Resolution: 1222.9924525624949
- Scale: 4622324.4343090001
-
Level ID: 8
[ Start Tile, End Tile ]
- Resolution: 611.49622628137968
- Scale: 2311162.2171550002
-
Level ID: 10
[ Start Tile, End Tile ]
- Resolution: 152.87405657041106
- Scale: 577790.55428899999
-
Level ID: 11
[ Start Tile, End Tile ]
- Resolution: 76.437028285073239
- Scale: 288895.27714399999
-
Level ID: 13
[ Start Tile, End Tile ]
- Resolution: 19.10925707126831
- Scale: 72223.819285999998
-
Level ID: 14
[ Start Tile, End Tile ]
- Resolution: 9.5546285356341549
- Scale: 36111.909642999999
-
Level ID: 16
[ Start Tile, End Tile ]
- Resolution: 2.3886571339746849
- Scale: 9027.9774109999998
-
Level ID: 17
[ Start Tile, End Tile ]
- Resolution: 1.1943285668550503
- Scale: 4513.9887049999998
-
Level ID: 19
[ Start Tile, End Tile ]
- Resolution: 0.29858214164761665
- Scale: 1128.4971760000001
-
Level ID: 20
[ Start Tile, End Tile ]
- Resolution: 0.14929107082380833
- Scale: 564.24858800000004
-
Level ID: 21
[ Start Tile, End Tile ]
- Resolution: 0.074645535411904163
- Scale: 282.12429400000002
-
Level ID: 22
[ Start Tile, End Tile ]
- Resolution: 0.037322767705952081
- Scale: 141.06214700000001
-
Level ID: 23
[ Start Tile, End Tile ]
- Resolution: 0.018661383852976041
- Scale: 70.531073500000005
- Format: MIXED
- Compression Quality: 75.0
- Origin: X: -2.0037508342787E7
Y: 2.0037508342787E7
- Spatial Reference: 102100
(3857)
Storage Info:
- Storage Format: esriMapCacheStorageModeCompactV2
- Packet Size: 128
Initial Extent:
XMin: -1.1041119549939165E7
YMin: 3504075.672029581
XMax: -1.1030017071580758E7
YMax: 3512885.039539436
Spatial Reference: 102100
Full Extent:
XMin: -1.123925251437852E7
YMin: 3360167.5724566705
XMax: -1.0893757146529691E7
YMax: 3624639.6903232527
Spatial Reference: 102100
Units: esriMeters
Supported Image Format Types: PNG32,PNG24,PNG,JPG,DIB,TIFF,EMF,PS,PDF,GIF,SVG,SVGZ,BMP
Document Info:
Title: Public Safety v2
Author:
Comments:
Subject:
Category:
Keywords: Public Safety,Basemap,Critical Facilities
AntialiasingMode: Best
TextAntialiasingMode: Force
Supports Dynamic Layers: false
Resampling: true
MaxRecordCount: 2000
MaxSelectionCount: 2000
MaxImageHeight: 4096
MaxImageWidth: 4096
Supported Query Formats: JSON, geoJSON, PBF
Supports Query Data Elements: true
Min Scale: 591657527.591555
Max Scale: 70.531073500000005
Min LOD: 0
Max LOD: 19
Supports Datum Transformation: true
Child Resources:
Info
Supported Operations:
Export Map
QueryLegends
Return Updates